BEGIN:VCALENDAR
VERSION:2.0
X-WR-CALNAME:EventsCalendar
BEGIN:VEVENT
CATEGORIES:Event Category,Admissions,Event Category,CUNY,Event Category,Information Session,Event Type,Information Session,Schools,School of Business,Audience,Alumni,Audience,Faculty,Audience,Graduate Students,Audience,Parents,Audience,Prospective Students,Audience,Staff,Audience,Students,Audience,Transfer Students,Audience,Visitors,Featured,Yes
DESCRIPTION:The Office of Graduate Admissions hosts regular, program-specific information sessions for many of our graduate programs. Our Graduate Information Sessions are designed to highlight the benefits and value of a Lehman College graduate degree and provide prospective applicants with an overview of our graduate programs. It is also an opportunity to meet with faculty and learn more about the application process, tuition costs, and transfer credits.&amp;nbsp;&amp;nbsp; Our Programs and Degrees page offers a listing of graduate programs and gives you access to the full course description and website for your intended program.&amp;nbsp;91331 Information Session, Graduate School, Graduate Admissions, Business, Finance, Human Resources &amp;amp; management, Human resources, masters, MSB, international business
DTSTAMP:20260423T113723
DTSTART:20250421T173000
DTEND:20250421T183000
LOCATION:Online
SUMMARY;LANGUAGE=en-us:Business, MSB Information Session 
UID:34a69ec68c05ea96622069a0ef9903aa@lcw.lehman.edu
END:VEVENT
END:VCALENDAR
