BEGIN:VCALENDAR
VERSION:2.0
X-WR-CALNAME:EventsCalendar
BEGIN:VEVENT
CATEGORIES:Event Category,Admissions,Event Category,CUNY,Event Category,Information Session,Event Type,Information Session,Schools,School of Arts &amp; Humanities,Audience,Alumni,Audience,Graduate Students,Audience,Parents,Audience,Prospective Students,Audience,Staff,Audience,Students,Audience,Transfer Students,Audience,Visitors
DESCRIPTION:The Office of Graduate Admissions hosts regular, program-specific information sessions for many of our graduate programs. Our Graduate Information Sessions are designed to highlight the benefits and value of a Lehman College graduate degree and provide prospective applicants with an overview of our graduate programs. It is also an opportunity to meet with faculty and learn more about the application process, tuition costs, and transfer credits.&amp;nbsp;&amp;nbsp; Our Programs and Degrees page offers a listing of graduate programs and gives you access to the full course description and website for your intended program.91265 Information Session, Graduate School, Graduate Admissions, Spanish, Literature, Spanish
DTSTAMP:20260423T071027
DTSTART:20250203T180000
DTEND:20250203T190000
LOCATION:Online
SUMMARY;LANGUAGE=en-us:Spanish Literature M.A. Information Session 
UID:84d53343eecd2fd9889b34a256eec4a0@lcw.lehman.edu
END:VEVENT
END:VCALENDAR
