BEGIN:VCALENDAR
VERSION:2.0
X-WR-CALNAME:EventsCalendar
BEGIN:VEVENT
CATEGORIES:Event Category,Admissions,Event Category,CUNY,Event Category,Information Session,Event Type,Information Session,Schools,School of Health Sciences, Human Services &amp; Nursing,Audience,Alumni,Audience,Graduate Students,Audience,Prospective Students,Audience,Staff,Audience,Students,Audience,Visitors
DESCRIPTION:The Office of Graduate Admissions hosts regular, program-specific information sessions for many of our graduate programs. Our Graduate Information Sessions are designed to highlight the benefits and value of a Lehman College graduate degree and provide prospective applicants with an overview of our graduate programs. It is also an opportunity to meet with faculty and learn more about the application process, tuition costs, and transfer credits.&amp;nbsp;&amp;nbsp; Our Programs and Degrees page offers a listing of graduate programs and gives you access to the full course description and website for your intended program. &amp;nbsp;&amp;nbsp;80193 Social Work, social worker,
DTSTAMP:20260423T071028
DTSTART:20241202T180000
DTEND:20241202T193000
LOCATION:Online
SUMMARY;LANGUAGE=en-us:Social Work, MSW Information Session 
UID:68d7c40259cc23172bb55e37eaaa9b06@lcw.lehman.edu
END:VEVENT
END:VCALENDAR
