BEGIN:VCALENDAR
VERSION:2.0
X-WR-CALNAME:EventsCalendar
BEGIN:VEVENT
CATEGORIES:Event Category,Arts &amp; Culture,Event Category,General Public,Event Category,Kids &amp; Family,Event Category,Students,Event Category,Workshops,Event Type,Community,Audience,Friend of Lehman,Audience,Parents,Audience,Prospective Students,Audience,Students,Audience,Visitors,Featured,Yes
DESCRIPTION:Experience an inquiry-based inclusive family tour of the Architecture on the Lehman College campus. Create your own Book Shelf Miniature based on the architecture at Lehman College. &amp;nbsp;72711 kids, family, arts
DTSTAMP:20260423T181909
DTSTART:20240602T103000
DTEND:20240602T123000
LOCATION:Fine Arts - FA
SUMMARY;LANGUAGE=en-us:Inclusive Family Program: Book Shelf Miniatures
UID:f830b98b0ff8bcf187fb9069289659df@lcw.lehman.edu
END:VEVENT
END:VCALENDAR
