BEGIN:VCALENDAR
VERSION:2.0
X-WR-CALNAME:EventsCalendar
BEGIN:VEVENT
CATEGORIES:Event Category,Career Development,Event Type,Community,Audience,Alumni,Audience,Faculty,Audience,Staff,Audience,Students,Featured,Yes
DESCRIPTION:Meet with recruiters from 70+ organizations offering full time, part time, internship, volunteer, and seasonal opportunities. This event provides all students and alumni the opportunity to network with recruiters and learn about available career paths. Open to all current Lehman College students and alumni. All Attendees will be entered into a $100 MACY&#039;s Gift Card Raffle70293 Career &amp;amp; Internship Fair CEDC
DTSTAMP:20260425T065426
DTSTART:20240305T110000
DTEND:20240305T150000
LOCATION:APEX
SUMMARY;LANGUAGE=en-us:Lehman College Career &amp;amp; Internship Fair 2024 
UID:c71d7af0f854b8d68bf722bd8e459237@lcw.lehman.edu
END:VEVENT
END:VCALENDAR
