BEGIN:VCALENDAR
VERSION:2.0
X-WR-CALNAME:EventsCalendar
BEGIN:VEVENT
CATEGORIES:Event Category,Arts &amp; Culture,Event Category,CUNY,Event Category,Research,Event Type,Lectures,Schools,School of Business,Audience,Faculty,Audience,Graduate Students,Audience,Staff,Audience,Students
DESCRIPTION:Author Michael E. Martell will lead a discussion on his book Queering Economics: Reimagining the Dismal Science. This event is presented by the Lehman College Economics Club and the Crystal Queer Club.&amp;nbsp;115557 Queer, Economics, LGBTQ+, Lecture, Discussion
DTSTAMP:20260423T124953
DTSTART:20260427T120000
DTEND:20260427T150000
LOCATION:Music Building
SUMMARY;LANGUAGE=en-us:Queering Economics: Reimagining the Dismal Science 
UID:aa2082a3c42c6ef5df25a9abf1c3dcea@lcw.lehman.edu
END:VEVENT
END:VCALENDAR
