BEGIN:VCALENDAR
VERSION:2.0
X-WR-CALNAME:EventsCalendar
BEGIN:VEVENT
CATEGORIES:Event Category,Community,Event Category,Information Session,Event Type,Information Session,Schools,School of Continuing &amp; Professional Studies,Audience,Alumni,Audience,Faculty,Audience,Friend of Lehman,Audience,Staff,Audience,Visitors,Featured,Yes
DESCRIPTION:Join us for an Open House at the Bronx Business Tech Incubator, where entrepreneurs, startups, and small business owners can explore the resources designed to support business growth and innovation. Attendees will have the opportunity to learn about our business development services, technology-focused programs, and support resources available to companies at every stage.115497 Open House, Tech, BBTI, Small Business
DTSTAMP:20260423T080106
DTSTART:20260421T160000
DTEND:20260421T170000
LOCATION:CUNY on The Concourse
SUMMARY;LANGUAGE=en-us:The Bronx Business Tech Incubator: April Open House 
UID:aa58eb8c3230a957db3a8524c047c866@lcw.lehman.edu
END:VEVENT
END:VCALENDAR
