BEGIN:VCALENDAR
VERSION:2.0
X-WR-CALNAME:EventsCalendar
BEGIN:VEVENT
CATEGORIES:Event Category,Arts &amp; Culture,Event Category,CUNY,Event Category,Concerts,Event Category,Performing Arts &amp; Film,Event Category,Theatre &amp; Dance,Event Type,Reception,Schools,School of Arts &amp; Humanities,Audience,Alumni,Audience,Faculty,Audience,Friend of Lehman,Audience,Graduate Students,Audience,High School Students,Audience,Parents,Audience,Prospective Students,Audience,Staff,Audience,Students,Audience,Transfer Students,Audience,Visitors
DESCRIPTION:Join us as we celebrate the 2026 Spring Dance Concert choreographers and performers. DJ set by Madre Gu&amp;iacute;a. Food and refreshments will be available!115471 lgbtq, performance, dance, concert, afterparty, reception
DTSTAMP:20260423T080105
DTSTART:20260422T170000
DTEND:20260422T190000
LOCATION:Speech &amp;amp; Theatre Building
SUMMARY;LANGUAGE=en-us:Underground: Spring Dance 2026 Afterparty  
UID:f2946c82254ffe83c12450aefef8f9c4@lcw.lehman.edu
END:VEVENT
END:VCALENDAR
