BEGIN:VCALENDAR
VERSION:2.0
X-WR-CALNAME:EventsCalendar
BEGIN:VEVENT
CATEGORIES:Event Category,Panel Discussions,Event Category,Students,Event Type,Information Session,Event Type,Lectures,Event Type,Panel,Audience,Faculty,Audience,Staff,Audience,Students,Featured,Yes
DESCRIPTION:Panelists with expertise in Africana Studies, Science Education, Immigration Justice, Environmental and Climate Justice along with YOU, our audience members, will wrestle with how to collectively strengthen the focus of our work and the education of students during this very trying and difficult time. Refreshments will be served.115278 panel, immigration, justice, climate justice, education, future
DTSTAMP:20260423T071051
DTSTART:20260430T140000
DTEND:20260430T153000
LOCATION:Hybrid
SUMMARY;LANGUAGE=en-us:Educational Roots and Routes in a Time of Chaos - Where Do We Go From Here?
UID:58288484d3dcbd20b3f9938dc0b7a96e@lcw.lehman.edu
END:VEVENT
END:VCALENDAR
