BEGIN:VCALENDAR
VERSION:2.0
X-WR-CALNAME:EventsCalendar
BEGIN:VEVENT
CATEGORIES:Event Category,Arts &amp; Culture,Event Category,Film &amp; Media Screenings,Event Category,Performing Arts &amp; Film,Event Category,Staff,Event Category,Students,Event Type,Community,Event Type,Film,Audience,Alumni,Audience,Faculty,Audience,Friend of Lehman,Audience,Graduate Students
DESCRIPTION:Beyond is a film about accountability, redemption, and the possibility of change. Followed by a discussion and pizza. Sponsored by Reentry@Lehman Committee, SEEDS of Change, and Campus Life.115269 prison, reentry, justice, incarcerate, redemption
DTSTAMP:20260423T080142
DTSTART:20260422T173000
DTEND:20260422T203000
LOCATION:Music Building
SUMMARY;LANGUAGE=en-us:Beyond - Film Screening
UID:d607dab059f66d44e62f6ead26b98275@lcw.lehman.edu
END:VEVENT
END:VCALENDAR
