BEGIN:VCALENDAR
VERSION:2.0
X-WR-CALNAME:EventsCalendar
BEGIN:VEVENT
CATEGORIES:Event Category,Panel Discussions,Event Type,Information Session,Event Type,Panel,Audience,Students,Featured,Yes
DESCRIPTION:Join us for a discussion on ballroom culture in NYC led by Ricky Tucker, author of And the Category Is... Inside New York&#039;s Vogue, House, and Ballroom Community followed by a hands-on workshop on the ins and outs of vogue facilitated by Felix Luar of the House of Luar. Ricky Tucker is a writer, educator, and culture critic based in NYC. His work explores the imprints of Art and Memory on narrative, and the absurdity of most fleeting moments. His L.A. Times best-selling debut, And The Category Is... Inside New York&#039;s Vogue, House, and Ballroom Community was one of Pitchfork&#039;s 15 Best Music Books of 2022, and a finalist for the 2023 Lambda Literary Award in Gay Non-fiction. Felix (He/Him) is a multidisciplinary artist, voguer, and community organizer based in New York City. A first-generation Dominican-American from Washington Heights, he grew up navigating the tensions of immigrant life and Queer identity. As a member of the international legendary Elite House of Bodega, Felix competes in the Butch Queen Vogue Fem Category, drawing from ballroom as both an artistic discipline and a cultural lineage that informs his work. In 2024, he founded the House of Luar, a cultural collective that uplifts and celebrates the queer Caribbean, Hispanic, and Afro-Latinx diaspora through performance, nightlife, and collaborative creation. His recent projects include La Pafarer&amp;iacute;a Mini Ball - the first Spanish-language mini ball in New York. &amp;nbsp; &amp;nbsp;115240 Queer, Vogue, workshop, ballroom, NYC, Felix Luar, performance, Ricky Tucker
DTSTAMP:20260423T080142
DTSTART:20260415T143000
DTEND:20260415T170000
LOCATION:Outdoor Amphitheatre
SUMMARY;LANGUAGE=en-us:Vogue Ballroom
UID:5d6a812d55db98a30e8ea7246e9b9763@lcw.lehman.edu
END:VEVENT
END:VCALENDAR
