BEGIN:VCALENDAR
VERSION:2.0
X-WR-CALNAME:EventsCalendar
BEGIN:VEVENT
CATEGORIES:Event Category,Departmental Honors,Event Type,Reception,Schools,School of Arts &amp; Humanities,Audience,Faculty,Audience,Parents,Audience,Staff,Audience,Students,Featured,Yes
DESCRIPTION:Join the English department for their 2026 English Awards and Prizes ceremony!114770 English, Awards, Prizes, Ceremony, 2026
DTSTAMP:20260423T080142
DTSTART:20260513T160000
DTEND:20260513T180000
LOCATION:Music Building
SUMMARY;LANGUAGE=en-us:2026 English Awards and Prizes Ceremony
UID:1939afcf724cbf3107d02456b1e6d6db@lcw.lehman.edu
END:VEVENT
END:VCALENDAR
