BEGIN:VCALENDAR
VERSION:2.0
X-WR-CALNAME:EventsCalendar
BEGIN:VEVENT
CATEGORIES:Event Category,Academics,Event Category,Community,Event Category,Conferences,Event Category,DEI,Event Category,Exhibits,Event Category,Faculty,Event Category,Information Session,Event Category,Leadership,Event Category,Lectures,Event Category,Lehman Community,Event Category,Networking,Event Category,Research,Event Category,Showcase,Event Category,Staff,Event Category,Students,Event Category,Workshops,Event Type,Academic Calendar,Event Type,Conference,Audience,Alumni,Audience,Faculty,Audience,Graduate Students,Audience,Prospective Students,Audience,Staff,Audience,Students,Audience,Transfer Students,Featured,Yes
DESCRIPTION:The Excellence in Education &amp;amp; Community Conference (EECC) is a free, in-person celebration and forum recognizing excellence in teaching, learning, and community engagement at Lehman College (CUNY). EECC brings together students, faculty, and staff to share practices and initiatives that shape learning and academic life. Conference Tracks  I. Belonging: Teaching as a Human-Centered Practice  This track invites proposals that reimagine teaching as a relational, human-centered endeavor, highlighting approaches that cultivate belonging, amplify diverse voices, and support student agency.  II. Equity in a Digital Age: Inclusive Teaching, Technology, and Access  This track explores equity through digital and/or computational technology that include teaching methods for online modes of instruction, accessible course design with technology, open educational resources, ethical uses of technology, and strategies that support student access and engagement through technology.  III. Teaching Forward: Equity, Innovation, and Transformative Learning  This track features innovative and forward-looking pedagogical approaches that center equity in curricular design, interdisciplinary collaboration, and transformative learning experiences.  &amp;nbsp;114407 Conference, Community, Faculty, Students, Staff, Teacing and Learning,
DTSTAMP:20260423T071027
DTSTART:20260417T000000
DTEND:20260417T235900
LOCATION:Carman Hall - CA
SUMMARY;LANGUAGE=en-us:Excellence In Education and Community Conference (EECC&amp;rsquo;26)
UID:71707acc8491dc0d86400f2364df50b0@lcw.lehman.edu
END:VEVENT
END:VCALENDAR
