BEGIN:VCALENDAR
VERSION:2.0
X-WR-CALNAME:EventsCalendar
BEGIN:VEVENT
CATEGORIES:Event Category,Workshops,Event Type,Hybrid,Audience,Students,Featured,Yes
DESCRIPTION:Guided meditation is a great way to practice relaxation and stress relief. Start your week off right. Join us every Monday for a brief guided meditation. Join in person at the Wellness Center or virtually on Zoom.111724 guided meditation, spiritual wellness, emotional wellness
DTSTAMP:20260424T065323
DTSTART:20260209T120000
DTEND:20260209T130000
LOCATION:Old Gym Building
SUMMARY;LANGUAGE=en-us:Meditation Mondays 
UID:dfebebdb538a20dbf92ec691e34f237e@lcw.lehman.edu
END:VEVENT
BEGIN:VEVENT
CATEGORIES:Event Category,Workshops,Event Type,Hybrid,Audience,Students,Featured,Yes
DESCRIPTION:Guided meditation is a great way to practice relaxation and stress relief. Start your week off right. Join us every Monday for a brief guided meditation. Join in person at the Wellness Center or virtually on Zoom.111724 guided meditation, spiritual wellness, emotional wellness
DTSTAMP:20260424T065323
DTSTART:20260216T120000
DTEND:20260216T130000
LOCATION:Old Gym Building
SUMMARY;LANGUAGE=en-us:Meditation Mondays 
UID:2b80102b3c036a4852f212f967042971@lcw.lehman.edu
END:VEVENT
BEGIN:VEVENT
CATEGORIES:Event Category,Workshops,Event Type,Hybrid,Audience,Students,Featured,Yes
DESCRIPTION:Guided meditation is a great way to practice relaxation and stress relief. Start your week off right. Join us every Monday for a brief guided meditation. Join in person at the Wellness Center or virtually on Zoom.111724 guided meditation, spiritual wellness, emotional wellness
DTSTAMP:20260424T065323
DTSTART:20260223T120000
DTEND:20260223T130000
LOCATION:Old Gym Building
SUMMARY;LANGUAGE=en-us:Meditation Mondays 
UID:f93a61a013078f3d32304644fd7e135f@lcw.lehman.edu
END:VEVENT
BEGIN:VEVENT
CATEGORIES:Event Category,Workshops,Event Type,Hybrid,Audience,Students,Featured,Yes
DESCRIPTION:Guided meditation is a great way to practice relaxation and stress relief. Start your week off right. Join us every Monday for a brief guided meditation. Join in person at the Wellness Center or virtually on Zoom.111724 guided meditation, spiritual wellness, emotional wellness
DTSTAMP:20260424T065323
DTSTART:20260302T120000
DTEND:20260302T130000
LOCATION:Old Gym Building
SUMMARY;LANGUAGE=en-us:Meditation Mondays 
UID:e264b0194316749d752e7b9b6f6a1cae@lcw.lehman.edu
END:VEVENT
BEGIN:VEVENT
CATEGORIES:Event Category,Workshops,Event Type,Hybrid,Audience,Students,Featured,Yes
DESCRIPTION:Guided meditation is a great way to practice relaxation and stress relief. Start your week off right. Join us every Monday for a brief guided meditation. Join in person at the Wellness Center or virtually on Zoom.111724 guided meditation, spiritual wellness, emotional wellness
DTSTAMP:20260424T065323
DTSTART:20260309T120000
DTEND:20260309T130000
LOCATION:Old Gym Building
SUMMARY;LANGUAGE=en-us:Meditation Mondays 
UID:c1c9badeae66f61a81ae5b9e15b84ffb@lcw.lehman.edu
END:VEVENT
BEGIN:VEVENT
CATEGORIES:Event Category,Workshops,Event Type,Hybrid,Audience,Students,Featured,Yes
DESCRIPTION:Guided meditation is a great way to practice relaxation and stress relief. Start your week off right. Join us every Monday for a brief guided meditation. Join in person at the Wellness Center or virtually on Zoom.111724 guided meditation, spiritual wellness, emotional wellness
DTSTAMP:20260424T065323
DTSTART:20260316T120000
DTEND:20260316T130000
LOCATION:Old Gym Building
SUMMARY;LANGUAGE=en-us:Meditation Mondays 
UID:d9fdd70bdbb6996be8d44efa39fe9792@lcw.lehman.edu
END:VEVENT
BEGIN:VEVENT
CATEGORIES:Event Category,Workshops,Event Type,Hybrid,Audience,Students,Featured,Yes
DESCRIPTION:Guided meditation is a great way to practice relaxation and stress relief. Start your week off right. Join us every Monday for a brief guided meditation. Join in person at the Wellness Center or virtually on Zoom.111724 guided meditation, spiritual wellness, emotional wellness
DTSTAMP:20260424T065323
DTSTART:20260323T120000
DTEND:20260323T130000
LOCATION:Old Gym Building
SUMMARY;LANGUAGE=en-us:Meditation Mondays 
UID:fe4bcee9d3ec847860aea7f4786d61f3@lcw.lehman.edu
END:VEVENT
BEGIN:VEVENT
CATEGORIES:Event Category,Workshops,Event Type,Hybrid,Audience,Students,Featured,Yes
DESCRIPTION:Guided meditation is a great way to practice relaxation and stress relief. Start your week off right. Join us every Monday for a brief guided meditation. Join in person at the Wellness Center or virtually on Zoom.111724 guided meditation, spiritual wellness, emotional wellness
DTSTAMP:20260424T065323
DTSTART:20260330T120000
DTEND:20260330T130000
LOCATION:Old Gym Building
SUMMARY;LANGUAGE=en-us:Meditation Mondays 
UID:005052a5e1483d237d5e0e819539b980@lcw.lehman.edu
END:VEVENT
BEGIN:VEVENT
CATEGORIES:Event Category,Workshops,Event Type,Hybrid,Audience,Students,Featured,Yes
DESCRIPTION:Guided meditation is a great way to practice relaxation and stress relief. Start your week off right. Join us every Monday for a brief guided meditation. Join in person at the Wellness Center or virtually on Zoom.111724 guided meditation, spiritual wellness, emotional wellness
DTSTAMP:20260424T065323
DTSTART:20260406T120000
DTEND:20260406T130000
LOCATION:Old Gym Building
SUMMARY;LANGUAGE=en-us:Meditation Mondays 
UID:69f5f5bfbc6a4bb8bb57748e9dc4b61f@lcw.lehman.edu
END:VEVENT
BEGIN:VEVENT
CATEGORIES:Event Category,Workshops,Event Type,Hybrid,Audience,Students,Featured,Yes
DESCRIPTION:Guided meditation is a great way to practice relaxation and stress relief. Start your week off right. Join us every Monday for a brief guided meditation. Join in person at the Wellness Center or virtually on Zoom.111724 guided meditation, spiritual wellness, emotional wellness
DTSTAMP:20260424T065323
DTSTART:20260413T120000
DTEND:20260413T130000
LOCATION:Old Gym Building
SUMMARY;LANGUAGE=en-us:Meditation Mondays 
UID:79c8df8c4cc622b9df5b73d73c541204@lcw.lehman.edu
END:VEVENT
BEGIN:VEVENT
CATEGORIES:Event Category,Workshops,Event Type,Hybrid,Audience,Students,Featured,Yes
DESCRIPTION:Guided meditation is a great way to practice relaxation and stress relief. Start your week off right. Join us every Monday for a brief guided meditation. Join in person at the Wellness Center or virtually on Zoom.111724 guided meditation, spiritual wellness, emotional wellness
DTSTAMP:20260424T065323
DTSTART:20260420T120000
DTEND:20260420T130000
LOCATION:Old Gym Building
SUMMARY;LANGUAGE=en-us:Meditation Mondays 
UID:ac7f4ff92e3d60024ee81b4db92aa881@lcw.lehman.edu
END:VEVENT
BEGIN:VEVENT
CATEGORIES:Event Category,Workshops,Event Type,Hybrid,Audience,Students,Featured,Yes
DESCRIPTION:Guided meditation is a great way to practice relaxation and stress relief. Start your week off right. Join us every Monday for a brief guided meditation. Join in person at the Wellness Center or virtually on Zoom.111724 guided meditation, spiritual wellness, emotional wellness
DTSTAMP:20260424T065323
DTSTART:20260427T120000
DTEND:20260427T130000
LOCATION:Old Gym Building
SUMMARY;LANGUAGE=en-us:Meditation Mondays 
UID:139a10069e188592721c359b250cc135@lcw.lehman.edu
END:VEVENT
BEGIN:VEVENT
CATEGORIES:Event Category,Workshops,Event Type,Hybrid,Audience,Students,Featured,Yes
DESCRIPTION:Guided meditation is a great way to practice relaxation and stress relief. Start your week off right. Join us every Monday for a brief guided meditation. Join in person at the Wellness Center or virtually on Zoom.111724 guided meditation, spiritual wellness, emotional wellness
DTSTAMP:20260424T065323
DTSTART:20260504T120000
DTEND:20260504T130000
LOCATION:Old Gym Building
SUMMARY;LANGUAGE=en-us:Meditation Mondays 
UID:9be57e09f19ce2e1f00aab5f6f6c7917@lcw.lehman.edu
END:VEVENT
BEGIN:VEVENT
CATEGORIES:Event Category,Workshops,Event Type,Hybrid,Audience,Students,Featured,Yes
DESCRIPTION:Guided meditation is a great way to practice relaxation and stress relief. Start your week off right. Join us every Monday for a brief guided meditation. Join in person at the Wellness Center or virtually on Zoom.111724 guided meditation, spiritual wellness, emotional wellness
DTSTAMP:20260424T065323
DTSTART:20260511T120000
DTEND:20260511T130000
LOCATION:Old Gym Building
SUMMARY;LANGUAGE=en-us:Meditation Mondays 
UID:23c585595a51401fb3ec4858809077e5@lcw.lehman.edu
END:VEVENT
END:VCALENDAR
