BEGIN:VCALENDAR
VERSION:2.0
X-WR-CALNAME:EventsCalendar
BEGIN:VEVENT
CATEGORIES:Event Category,Faculty,Event Category,Staff,Event Category,Students,Event Type,Information Session,Event Type,Lectures,Event Type,Webinar,Audience,Faculty,Audience,Staff,Audience,Students
DESCRIPTION:Dr. Maeve Adams, author, assistant professor, and director of First Year Composition at Lehman College will talk to us about her new book,&amp;nbsp;Rhetoric and Resistance: The Literary Arts of Dissent in Nineteenth-Century Britain, and her vision for composition and digital technology in the year ahead. About Teaching and Learning with Digital Technology (a.k.a. November Tech Month) is a virtual fall 2025 series by the Center for Teaching and Learning that offers awareness, demonstrations, relevant use cases, and scholarly conversations about teaching and learning with digital tools for students, faculty, and staff at Lehman College.107985 Maeve Adams, Rhetoric and Resistance: The Literary Arts of Dissent in Nineteenth-Century Britain, teaching and learning, digital technology
DTSTAMP:20260423T080105
DTSTART:20251120T120000
DTEND:20251120T130000
LOCATION:Online
SUMMARY;LANGUAGE=en-us:Fireside Chat with Dr. Maeve Adams: On Composition and Digital Tools
UID:91e745007d185e432de0b190a358ee61@lcw.lehman.edu
END:VEVENT
END:VCALENDAR
