BEGIN:VCALENDAR
VERSION:2.0
X-WR-CALNAME:EventsCalendar
BEGIN:VEVENT
CATEGORIES:Event Category,Faculty,Event Category,Staff,Event Category,Students,Event Type,Information Session,Event Type,Lectures,Event Type,Webinar,Audience,Faculty,Audience,Staff,Audience,Students
DESCRIPTION:Library faculty member, Rebecca Arzola, leads this session on Credo, a digital tool for scholarly searches that incorporates critical thinking, mind maps, and federated results for improved searches. Teaching and Learning with Digital Technology (a.k.a. November Tech Month) is a virtual fall 2025 series by the Center for Teaching and Learning that offers awareness, demonstrations, relevant use cases, and scholarly conversations about teaching and learning with digital tools for students, faculty, and staff at Lehman College.107973 Rebecca Arzola, digital, mind maps, critical thinking, searches, teaching and learning, digital technology
DTSTAMP:20260423T072051
DTSTART:20251111T120000
DTEND:20251111T130000
LOCATION:Online
SUMMARY;LANGUAGE=en-us:Credo/Infobase, A Digital Tool for Enriched Scholarly Searches
UID:8945e5535d581f639847571d0ea8544f@lcw.lehman.edu
END:VEVENT
END:VCALENDAR
